BEGIN:VCALENDAR
VERSION:1.0
PRODID:paranoiacs.de
BEGIN:VEVENT
SUMMARY:Paranoiacs @ Krakrock, Avelgem
DESCRIPTION;ENCODING=QUOTED-PRINTABLE:See paranoiacs.de
DTSTART:19990911T200000
DTEND:19990911T235500
DALARM:19990904T200000
END:VEVENT
END:VCALENDAR