BEGIN:VCALENDAR
VERSION:1.0
PRODID:paranoiacs.de
BEGIN:VEVENT
SUMMARY:Paranoiacs @ Repmond Rock, Rupelmonde
DESCRIPTION;ENCODING=QUOTED-PRINTABLE:See paranoiacs.de
DTSTART:19990424T200000
DTEND:19990424T235500
DALARM:19990417T200000
END:VEVENT
END:VCALENDAR