BEGIN:VCALENDAR
VERSION:1.0
PRODID:paranoiacs.de
BEGIN:VEVENT
SUMMARY:Paranoiacs @ JH Kaddish, Schoten
DESCRIPTION;ENCODING=QUOTED-PRINTABLE:See paranoiacs.de
DTSTART:20100430T200000
DTEND:20100430T235500
DALARM:20100423T200000
END:VEVENT
END:VCALENDAR