BEGIN:VCALENDAR
VERSION:1.0
PRODID:paranoiacs.de
BEGIN:VEVENT
SUMMARY:Paranoiacs @ Mussenakker, Meer
DESCRIPTION;ENCODING=QUOTED-PRINTABLE:See paranoiacs.de
DTSTART:20030301T200000
DTEND:20030301T235500
DALARM:20030222T200000
END:VEVENT
END:VCALENDAR