BEGIN:VCALENDAR
VERSION:1.0
PRODID:paranoiacs.de
BEGIN:VEVENT
SUMMARY:Paranoiacs @ Vierschaarfeesten, Waasmunster
DESCRIPTION;ENCODING=QUOTED-PRINTABLE:See paranoiacs.de
DTSTART:20080628T200000
DTEND:20080628T235500
DALARM:20080621T200000
END:VEVENT
END:VCALENDAR